BEGIN:VCALENDAR
VERSION:2.0
PRODID:-//EfG Neckarsulm//NONSGML kigkonsult.se iCalcreator 2.30.10//
CALSCALE:GREGORIAN
METHOD:PUBLISH
UID:49999df2-695c-477b-ad35-162bd705a8fd
X-WR-CALNAME:iCagenda
X-WR-CALDESC:Event Management Extension for Joomla!
X-WR-RELCALID:3E26604A-50F4-4449-8B3E-E4F4932D05B5
X-WR-TIMEZONE:Europe/Berlin
BEGIN:VTIMEZONE
TZID:Europe/Berlin
BEGIN:STANDARD
TZNAME:CET
DTSTART:20251026T030000
TZOFFSETFROM:+0200
TZOFFSETTO:+0100
RDATE:20261025T030000
RDATE:20271031T030000
END:STANDARD
BEGIN:DAYLIGHT
TZNAME:CEST
DTSTART:20260329T020000
TZOFFSETFROM:+0100
TZOFFSETTO:+0200
RDATE:20270328T020000
END:DAYLIGHT
END:VTIMEZONE
BEGIN:VEVENT
UID:0b27a8b0-7fb1-47c6-aefe-9b8bb7c95774
DTSTAMP:20260423T090217Z
CATEGORIES:Bibel- und Gebetsabend
CLASS:PUBLIC
DESCRIPTION;ALTREP="CID:<FFFF__=0ABBE548DFE235B58f9e8a93d@coffeebean.com>":
 An jedem Dienstag von 20 Uhr bis 21 Uhr finden im Wechsel unsere Bibel-\, 
 Gebetsstunden statt.Hier gibt es die Möglichkeit\, auf Gottes Wort zu höre
 n und im Gebet füreinander einzustehen.Wir erhalten Informationen zur Fürb
 itte aus der Gemeindearbeit mit ihren Gruppen und Kreisen.Auf Wunsch werde
 n Gebetsanliegen einzelner Gemeindeglieder und Missionare genannt.Komm doc
 h auch vorbei!Du bist herzlich zu den Bibel- und Gebetsstunden eingeladen\
 , wenn dir die Ausrichtungauf Gott durch Gottes Wort und gemeinsames Beten
  wichtig ist und du die Gemeinde im Gebet unterstützen möchtest.
DTSTART:20260818T180000Z
DTEND:20260818T190000Z
GEO:+49.184608;+9.229192
LOCATION:
ORGANIZER:
SEQUENCE:1
SUMMARY:Bibel- und Gebetsabend
TRANSP:OPAQUE
URL:https://efg-neckarsulm.de/index.php/veranstaltungen/1-bibel-und-gebetsa
 bend/2026-08-18-20-00
END:VEVENT
END:VCALENDAR
